BEGIN:VCALENDAR
VERSION:2.0
PRODID:-//North Carolina Fraternal Order of Police Lodge 88 - ECPv6.9.0//NONSGML v1.0//EN
CALSCALE:GREGORIAN
METHOD:PUBLISH
X-ORIGINAL-URL:https://ncfop88.org
X-WR-CALDESC:Events for North Carolina Fraternal Order of Police Lodge 88
REFRESH-INTERVAL;VALUE=DURATION:PT1H
X-Robots-Tag:noindex
X-PUBLISHED-TTL:PT1H
BEGIN:VTIMEZONE
TZID:America/New_York
BEGIN:DAYLIGHT
TZOFFSETFROM:-0500
TZOFFSETTO:-0400
TZNAME:EDT
DTSTART:20220313T070000
END:DAYLIGHT
BEGIN:STANDARD
TZOFFSETFROM:-0400
TZOFFSETTO:-0500
TZNAME:EST
DTSTART:20221106T060000
END:STANDARD
END:VTIMEZONE
BEGIN:VEVENT
DTSTART;TZID=America/New_York:20220208T190000
DTEND;TZID=America/New_York:20220208T203000
DTSTAMP:20260422T155742
CREATED:20220115T030643Z
LAST-MODIFIED:20220115T030644Z
UID:592-1644346800-1644352200@ncfop88.org
SUMMARY:FOP Meeting
DESCRIPTION:
URL:https://ncfop88.org/event/fop-meeting-4/
LOCATION:Cleveland Draft House – Clayton\, 461 Shotwell Rd\, Clayton\, North Carolina\, 27520\, United States
CATEGORIES:Meetings
END:VEVENT
END:VCALENDAR