BEGIN:VCALENDAR
VERSION:2.0
PRODID:-//North Carolina Fraternal Order of Police Lodge 88 - ECPv6.9.0//NONSGML v1.0//EN
CALSCALE:GREGORIAN
METHOD:PUBLISH
X-ORIGINAL-URL:https://ncfop88.org
X-WR-CALDESC:Events for North Carolina Fraternal Order of Police Lodge 88
REFRESH-INTERVAL;VALUE=DURATION:PT1H
X-Robots-Tag:noindex
X-PUBLISHED-TTL:PT1H
BEGIN:VTIMEZONE
TZID:America/New_York
BEGIN:DAYLIGHT
TZOFFSETFROM:-0500
TZOFFSETTO:-0400
TZNAME:EDT
DTSTART:20210314T070000
END:DAYLIGHT
BEGIN:STANDARD
TZOFFSETFROM:-0400
TZOFFSETTO:-0500
TZNAME:EST
DTSTART:20211107T060000
END:STANDARD
END:VTIMEZONE
BEGIN:VEVENT
DTSTART;TZID=America/New_York:20211213T080000
DTEND;TZID=America/New_York:20211224T170000
DTSTAMP:20260422T191424
CREATED:20211103T170823Z
LAST-MODIFIED:20211103T171135Z
UID:533-1639382400-1640365200@ncfop88.org
SUMMARY:Gun Raffle Drawing
DESCRIPTION:One drawing per day. [Read more]
URL:https://ncfop88.org/event/gun-raffle-drawing/
CATEGORIES:Meetings
END:VEVENT
BEGIN:VEVENT
DTSTART;TZID=America/New_York:20211213T190000
DTEND;TZID=America/New_York:20211213T203000
DTSTAMP:20260422T191424
CREATED:20211130T162502Z
LAST-MODIFIED:20211130T162506Z
UID:565-1639422000-1639427400@ncfop88.org
SUMMARY:FOP Meeting
DESCRIPTION:Topics: All unsold tickets and money/stubs from sold tickets must be turned in to Patrick Millar; first drawing is during this meeting. All presents for Cops and Kids Christmas should be wrapped and turned in; distribution is December 18-19.  \n\n\n\nFor meeting location\, check the FOP App or contact any Johnston County Fraternal Order of Police Lodge 88 Executive Officer.
URL:https://ncfop88.org/event/fop-meeting-3/
CATEGORIES:Meetings
END:VEVENT
END:VCALENDAR