BEGIN:VCALENDAR
VERSION:2.0
PRODID:-//North Carolina Fraternal Order of Police Lodge 88 - ECPv6.9.0//NONSGML v1.0//EN
CALSCALE:GREGORIAN
METHOD:PUBLISH
X-ORIGINAL-URL:https://ncfop88.org
X-WR-CALDESC:Events for North Carolina Fraternal Order of Police Lodge 88
REFRESH-INTERVAL;VALUE=DURATION:PT1H
X-Robots-Tag:noindex
X-PUBLISHED-TTL:PT1H
BEGIN:VTIMEZONE
TZID:America/New_York
BEGIN:DAYLIGHT
TZOFFSETFROM:-0500
TZOFFSETTO:-0400
TZNAME:EDT
DTSTART:20220313T070000
END:DAYLIGHT
BEGIN:STANDARD
TZOFFSETFROM:-0400
TZOFFSETTO:-0500
TZNAME:EST
DTSTART:20221106T060000
END:STANDARD
END:VTIMEZONE
BEGIN:VEVENT
DTSTART;TZID=America/New_York:20220308T190000
DTEND;TZID=America/New_York:20220308T203000
DTSTAMP:20260422T131509
CREATED:20220217T184821Z
LAST-MODIFIED:20220217T185312Z
UID:601-1646766000-1646771400@ncfop88.org
SUMMARY:FOP Meeting
DESCRIPTION:
URL:https://ncfop88.org/event/fop-meeting-5/
LOCATION:Kobe Japanese Steak House\, 101 Ventura Drive\, Smithfield\, 27577\, United States
CATEGORIES:Meetings
END:VEVENT
END:VCALENDAR