BEGIN:VCALENDAR
VERSION:2.0
PRODID:-//North Carolina Fraternal Order of Police Lodge 88 - ECPv6.9.0//NONSGML v1.0//EN
CALSCALE:GREGORIAN
METHOD:PUBLISH
X-ORIGINAL-URL:https://ncfop88.org
X-WR-CALDESC:Events for North Carolina Fraternal Order of Police Lodge 88
REFRESH-INTERVAL;VALUE=DURATION:PT1H
X-Robots-Tag:noindex
X-PUBLISHED-TTL:PT1H
BEGIN:VTIMEZONE
TZID:America/New_York
BEGIN:DAYLIGHT
TZOFFSETFROM:-0500
TZOFFSETTO:-0400
TZNAME:EDT
DTSTART:20220313T070000
END:DAYLIGHT
BEGIN:STANDARD
TZOFFSETFROM:-0400
TZOFFSETTO:-0500
TZNAME:EST
DTSTART:20221106T060000
END:STANDARD
END:VTIMEZONE
BEGIN:VEVENT
DTSTART;TZID=America/New_York:20220104T190000
DTEND;TZID=America/New_York:20220104T203000
DTSTAMP:20260422T160331
CREATED:20211219T204159Z
LAST-MODIFIED:20211219T205114Z
UID:579-1641322800-1641328200@ncfop88.org
SUMMARY:FOP Meeting / Elections
DESCRIPTION:Topics: Elections will be held for new officers for the 2022-2024 term. More about decals to go on our utility trailer. Please mark your calendar and plan to attend! \n\n\n\n \n\n\n\nFor meeting location\, check the FOP App or contact any Johnston County Fraternal Order of Police Lodge 88 Executive Officer.
URL:https://ncfop88.org/event/fop-meeting-elections/
CATEGORIES:Meetings
END:VEVENT
END:VCALENDAR