BEGIN:VCALENDAR
VERSION:2.0
PRODID:-//North Carolina Fraternal Order of Police Lodge 88 - ECPv6.9.0//NONSGML v1.0//EN
CALSCALE:GREGORIAN
METHOD:PUBLISH
X-ORIGINAL-URL:https://ncfop88.org
X-WR-CALDESC:Events for North Carolina Fraternal Order of Police Lodge 88
REFRESH-INTERVAL;VALUE=DURATION:PT1H
X-Robots-Tag:noindex
X-PUBLISHED-TTL:PT1H
BEGIN:VTIMEZONE
TZID:America/New_York
BEGIN:DAYLIGHT
TZOFFSETFROM:-0500
TZOFFSETTO:-0400
TZNAME:EDT
DTSTART:20210314T070000
END:DAYLIGHT
BEGIN:STANDARD
TZOFFSETFROM:-0400
TZOFFSETTO:-0500
TZNAME:EST
DTSTART:20211107T060000
END:STANDARD
END:VTIMEZONE
BEGIN:VEVENT
DTSTART;TZID=America/New_York:20211101T080000
DTEND;TZID=America/New_York:20211130T170000
DTSTAMP:20260422T190949
CREATED:20211103T164916Z
LAST-MODIFIED:20220830T155358Z
UID:318-1635753600-1638291600@ncfop88.org
SUMMARY:Gun Raffle Tickets on Sale Now!
DESCRIPTION:This is an annual Lodge 88 fundraiser. Tickets are $20 each. Only 600 tickets will be… [Read More]
URL:https://ncfop88.org/event/gun-raffle-tickets-on-sale-now/
CATEGORIES:Meetings
END:VEVENT
BEGIN:VEVENT
DTSTART;TZID=America/New_York:20211116T190000
DTEND;TZID=America/New_York:20211116T203000
DTSTAMP:20260422T190949
CREATED:20211103T171922Z
LAST-MODIFIED:20211103T173914Z
UID:537-1637089200-1637094600@ncfop88.org
SUMMARY:FOP Meeting
DESCRIPTION:Topics: Cops and Kids Christmas\, Gun Raffle ticket sales\, upcoming elections for Lodge 88 officers. \n\n\n\nFor meeting location\, check the FOP App or contact any Johnston County Fraternal Order of Police Lodge 88 Executive Officer.
URL:https://ncfop88.org/event/fop-meeting-2/
CATEGORIES:Meetings
END:VEVENT
END:VCALENDAR